BEGIN:VCALENDAR
VERSION:2.0
PRODID:-//jEvents 2.0 for Joomla//EN
CALSCALE:GREGORIAN
METHOD:PUBLISH
BEGIN:VEVENT
UID:902453421ec094401de820ee211d8180
CATEGORIES:British Club Trials Event
CREATED:20260419T110312
SUMMARY:Ibex mcc Howard's Wood 
DESCRIPTION;ENCODING=QUOTED-PRINTABLE:\n\nAll welcome 4 routes no licences required&nbsp;\n
CONTACT:Ibex mcc Facebook page 
DTSTAMP:20260420T022006Z
DTSTART:20260503T110000Z
DTEND:20260503T150000Z
SEQUENCE:0
TRANSP:OPAQUE
END:VEVENT
END:VCALENDAR