BEGIN:VCALENDAR
VERSION:2.0
PRODID:-//jEvents 2.0 for Joomla//EN
CALSCALE:GREGORIAN
METHOD:PUBLISH
BEGIN:VEVENT
UID:e46d3a3ec3384db75788266e5f62aeea
CATEGORIES:British Club Trials Event
CREATED:20121107T113349
SUMMARY:North Lincs Classic
LOCATION:Wilsons farm
DESCRIPTION;ENCODING=QUOTED-PRINTABLE:<p>Club trial Wilsons Farm</p><p>3 routes Expert, Clubman, Beginner</p>
DTSTAMP:20260424T080009Z
DTSTART:20130101T103000Z
SEQUENCE:0
TRANSP:OPAQUE
END:VEVENT
END:VCALENDAR